BEGIN:VCALENDAR
VERSION:2.0
PRODID:-//Hohenberg an der Eger - ECPv6.15.20//NONSGML v1.0//EN
CALSCALE:GREGORIAN
METHOD:PUBLISH
X-WR-CALNAME:Hohenberg an der Eger
X-ORIGINAL-URL:https://www.hohenberg-tourismus.de
X-WR-CALDESC:Veranstaltungen für Hohenberg an der Eger
REFRESH-INTERVAL;VALUE=DURATION:PT1H
X-Robots-Tag:noindex
X-PUBLISHED-TTL:PT1H
BEGIN:VTIMEZONE
TZID:Europe/Berlin
BEGIN:DAYLIGHT
TZOFFSETFROM:+0100
TZOFFSETTO:+0200
TZNAME:CEST
DTSTART:20250330T010000
END:DAYLIGHT
BEGIN:STANDARD
TZOFFSETFROM:+0200
TZOFFSETTO:+0100
TZNAME:CET
DTSTART:20251026T010000
END:STANDARD
BEGIN:DAYLIGHT
TZOFFSETFROM:+0100
TZOFFSETTO:+0200
TZNAME:CEST
DTSTART:20260329T010000
END:DAYLIGHT
BEGIN:STANDARD
TZOFFSETFROM:+0200
TZOFFSETTO:+0100
TZNAME:CET
DTSTART:20261025T010000
END:STANDARD
BEGIN:DAYLIGHT
TZOFFSETFROM:+0100
TZOFFSETTO:+0200
TZNAME:CEST
DTSTART:20270328T010000
END:DAYLIGHT
BEGIN:STANDARD
TZOFFSETFROM:+0200
TZOFFSETTO:+0100
TZNAME:CET
DTSTART:20271031T010000
END:STANDARD
END:VTIMEZONE
BEGIN:VEVENT
DTSTART;TZID=Europe/Berlin:20260425T140000
DTEND;TZID=Europe/Berlin:20260425T180000
DTSTAMP:20260425T122200
CREATED:20260422T200213Z
LAST-MODIFIED:20260422T200213Z
UID:1715-1777125600-1777140000@www.hohenberg-tourismus.de
SUMMARY:Hanami im Sakura Park - Picknick zur Kirschblüte in Hohenberg
DESCRIPTION:Lasst uns ein paar schöne Stunden unter den blühenden Kirschbäumen verbringen. Kommt mit Decken\, Snacks\, guter Laune\, euren Familien und Freunden.\nIn unserem Cafe gibt es Kaffee\, Kuchen\, Herzhaftes\, Erfrischungsgetränke und Bier.\nFalten für Menschen mit und ohne Falten – in der Origami-Werkstatt entstehen zarte Papierblüten.\nDer Turnverein Hohenberg „Fit und Fun“ lädt im Sakura-Aktiv-Park dazu ein\, die japanische Tradition der Lebensfreude durch gemeinsame Bewegung mitzuerleben. \nEintritt frei
URL:https://www.hohenberg-tourismus.de/event/hanami-im-sakura-park-picknick-zur-kirschbluete-in-hohenberg/
LOCATION:Yamakawa Seniorenhaus\, Schulstraße 9a-d\, Hohenberg\, 95691\, Germany
END:VEVENT
END:VCALENDAR