BEGIN:VCALENDAR
VERSION:2.0
PRODID:-//Hohenberg an der Eger - ECPv6.15.20//NONSGML v1.0//EN
CALSCALE:GREGORIAN
METHOD:PUBLISH
X-WR-CALNAME:Hohenberg an der Eger
X-ORIGINAL-URL:https://www.hohenberg-tourismus.de
X-WR-CALDESC:Veranstaltungen für Hohenberg an der Eger
REFRESH-INTERVAL;VALUE=DURATION:PT1H
X-Robots-Tag:noindex
X-PUBLISHED-TTL:PT1H
BEGIN:VTIMEZONE
TZID:Europe/Berlin
BEGIN:DAYLIGHT
TZOFFSETFROM:+0100
TZOFFSETTO:+0200
TZNAME:CEST
DTSTART:20250330T010000
END:DAYLIGHT
BEGIN:STANDARD
TZOFFSETFROM:+0200
TZOFFSETTO:+0100
TZNAME:CET
DTSTART:20251026T010000
END:STANDARD
BEGIN:DAYLIGHT
TZOFFSETFROM:+0100
TZOFFSETTO:+0200
TZNAME:CEST
DTSTART:20260329T010000
END:DAYLIGHT
BEGIN:STANDARD
TZOFFSETFROM:+0200
TZOFFSETTO:+0100
TZNAME:CET
DTSTART:20261025T010000
END:STANDARD
BEGIN:DAYLIGHT
TZOFFSETFROM:+0100
TZOFFSETTO:+0200
TZNAME:CEST
DTSTART:20270328T010000
END:DAYLIGHT
BEGIN:STANDARD
TZOFFSETFROM:+0200
TZOFFSETTO:+0100
TZNAME:CET
DTSTART:20271031T010000
END:STANDARD
BEGIN:DAYLIGHT
TZOFFSETFROM:+0100
TZOFFSETTO:+0200
TZNAME:CEST
DTSTART:20280326T010000
END:DAYLIGHT
BEGIN:STANDARD
TZOFFSETFROM:+0200
TZOFFSETTO:+0100
TZNAME:CET
DTSTART:20281029T010000
END:STANDARD
END:VTIMEZONE
BEGIN:VEVENT
DTSTART;TZID=Europe/Berlin:20260424T190000
DTEND;TZID=Europe/Berlin:20260424T210000
DTSTAMP:20260421T120923
CREATED:20260323T101642Z
LAST-MODIFIED:20260323T101642Z
UID:1681-1777057200-1777064400@www.hohenberg-tourismus.de
SUMMARY:Monatssitzung Förderverein Tourismus und Kultur e.V.
DESCRIPTION:
URL:https://www.hohenberg-tourismus.de/event/monatssitzung-foerderverein-tourismus-und-kultur-e-v-2/
LOCATION:Hotel-Cafe Egerstau\, Egerweg 40\, Hohenberg a.d. Eger\, 95691
CATEGORIES:Monatssitzung
END:VEVENT
BEGIN:VEVENT
DTSTART;TZID=Europe/Berlin:20260529T190000
DTEND;TZID=Europe/Berlin:20260529T210000
DTSTAMP:20260421T120923
CREATED:20260323T101757Z
LAST-MODIFIED:20260323T101757Z
UID:1683-1780081200-1780088400@www.hohenberg-tourismus.de
SUMMARY:Monatssitzung Förderverein Tourismus und Kultur e.V.
DESCRIPTION:
URL:https://www.hohenberg-tourismus.de/event/monatssitzung-foerderverein-tourismus-und-kultur-e-v-3/
LOCATION:Gaststätte Steinhaus\, Steinhaus 1\, Thiersheim\, 95707\, Germany
CATEGORIES:Monatssitzung
END:VEVENT
BEGIN:VEVENT
DTSTART;TZID=Europe/Berlin:20260626T190000
DTEND;TZID=Europe/Berlin:20260626T210000
DTSTAMP:20260421T120923
CREATED:20260323T101910Z
LAST-MODIFIED:20260323T101910Z
UID:1685-1782500400-1782507600@www.hohenberg-tourismus.de
SUMMARY:Monatssitzung Förderverein Tourismus und Kultur e.V.
DESCRIPTION:
URL:https://www.hohenberg-tourismus.de/event/monatssitzung-foerderverein-tourismus-und-kultur-e-v-4/
LOCATION:Geigel’s Gewölbe\, Im Winkel 10\, Hohenberg a.d. Eger\, 95691\, Germany
CATEGORIES:Monatssitzung
END:VEVENT
BEGIN:VEVENT
DTSTART;TZID=Europe/Berlin:20260702T190000
DTEND;TZID=Europe/Berlin:20260702T210000
DTSTAMP:20260421T120923
CREATED:20260125T192911Z
LAST-MODIFIED:20260125T192911Z
UID:1327-1783018800-1783026000@www.hohenberg-tourismus.de
SUMMARY:SPD Vorstandssitzung
DESCRIPTION:
URL:https://www.hohenberg-tourismus.de/event/spd-vorstandssitzung-2/
LOCATION:Gasthof zur Burg\, Burgplatz 5\, Hohenberg a.d .Eger\, 95691\, Germany
END:VEVENT
BEGIN:VEVENT
DTSTART;VALUE=DATE:20260705
DTEND;VALUE=DATE:20260706
DTSTAMP:20260421T120923
CREATED:20260125T192818Z
LAST-MODIFIED:20260125T192818Z
UID:1325-1783209600-1783295999@www.hohenberg-tourismus.de
SUMMARY:Oldtimertreffen Wiesenfestplatz
DESCRIPTION:
URL:https://www.hohenberg-tourismus.de/event/oldtimertreffen-wiesenfestplatz/
LOCATION:Wiesenfestplatz\, Selber Straße 14\, Hohenberg\, 95691\, Germany
END:VEVENT
BEGIN:VEVENT
DTSTART;VALUE=DATE:20260718
DTEND;VALUE=DATE:20260721
DTSTAMP:20260421T120923
CREATED:20250527T193452Z
LAST-MODIFIED:20260204T213753Z
UID:1202-1784332800-1784591999@www.hohenberg-tourismus.de
SUMMARY:Hohenberger Wiesenfest
DESCRIPTION:
URL:https://www.hohenberg-tourismus.de/event/hohenberger-wiesenfest/
LOCATION:Wiesenfestplatz\, Selber Straße 14\, Hohenberg\, 95691\, Germany
ATTACH;FMTTYPE=image/gif:https://www.hohenberg-tourismus.de/wp-content/uploads/2022/05/wiesenfest_logo.gif
END:VEVENT
BEGIN:VEVENT
DTSTART;TZID=Europe/Berlin:20260720T170000
DTEND;TZID=Europe/Berlin:20260720T180000
DTSTAMP:20260421T120923
CREATED:20260125T193006Z
LAST-MODIFIED:20260125T193006Z
UID:1329-1784566800-1784570400@www.hohenberg-tourismus.de
SUMMARY:SPD Fähnchenaktion Wiesenfest
DESCRIPTION:
URL:https://www.hohenberg-tourismus.de/event/spd-faehnchenaktion-wiesenfest/
LOCATION:Wiesenfestplatz\, Selber Straße 14\, Hohenberg\, 95691\, Germany
END:VEVENT
BEGIN:VEVENT
DTSTART;TZID=Europe/Berlin:20260828T190000
DTEND;TZID=Europe/Berlin:20260828T210000
DTSTAMP:20260421T120923
CREATED:20260323T102007Z
LAST-MODIFIED:20260323T102007Z
UID:1687-1787943600-1787950800@www.hohenberg-tourismus.de
SUMMARY:Monatssitzung Förderverein Tourismus und Kultur e.V.
DESCRIPTION:
URL:https://www.hohenberg-tourismus.de/event/monatssitzung-foerderverein-tourismus-und-kultur-e-v-5/
CATEGORIES:Monatssitzung
END:VEVENT
BEGIN:VEVENT
DTSTART;TZID=Europe/Berlin:20261002T190000
DTEND;TZID=Europe/Berlin:20261002T210000
DTSTAMP:20260421T120923
CREATED:20260323T102053Z
LAST-MODIFIED:20260323T102346Z
UID:1689-1790967600-1790974800@www.hohenberg-tourismus.de
SUMMARY:Monatssitzung Förderverein Tourismus und Kultur e.V.
DESCRIPTION:
URL:https://www.hohenberg-tourismus.de/event/monatssitzung-tourismus-und-kultur-e-v/
CATEGORIES:Monatssitzung
END:VEVENT
BEGIN:VEVENT
DTSTART;TZID=Europe/Berlin:20261023T190000
DTEND;TZID=Europe/Berlin:20261023T210000
DTSTAMP:20260421T120923
CREATED:20260323T102145Z
LAST-MODIFIED:20260323T102145Z
UID:1691-1792782000-1792789200@www.hohenberg-tourismus.de
SUMMARY:Monatssitzung Förderverein Tourismus und Kultur e.V.
DESCRIPTION:
URL:https://www.hohenberg-tourismus.de/event/monatssitzung-foerderverein-tourismus-und-kultur-e-v-6/
LOCATION:Gasthof zum Weißen Lamm\, Selber Str. 1\, Hohenberg a.d. Eger\, 9591\, Germany
CATEGORIES:Monatssitzung
END:VEVENT
BEGIN:VEVENT
DTSTART;TZID=Europe/Berlin:20261127T190000
DTEND;TZID=Europe/Berlin:20261127T210000
DTSTAMP:20260421T120923
CREATED:20260323T102242Z
LAST-MODIFIED:20260323T102242Z
UID:1693-1795806000-1795813200@www.hohenberg-tourismus.de
SUMMARY:Monatssitzung Förderverein Tourismus und Kultur e.V.
DESCRIPTION:
URL:https://www.hohenberg-tourismus.de/event/monatssitzung-foerderverein-tourismus-und-kultur-e-v-7/
LOCATION:Gasthof zur Burg\, Burgplatz 5\, Hohenberg a.d .Eger\, 95691\, Germany
CATEGORIES:Monatssitzung
END:VEVENT
BEGIN:VEVENT
DTSTART;TZID=Europe/Berlin:20261205T140000
DTEND;TZID=Europe/Berlin:20271003T200000
DTSTAMP:20260421T120923
CREATED:20260206T134312Z
LAST-MODIFIED:20260206T134357Z
UID:1631-1796479200-1822593600@www.hohenberg-tourismus.de
SUMMARY:Hohenberger Burgweihnacht
DESCRIPTION:
URL:https://www.hohenberg-tourismus.de/event/hohenberger-burgweihnacht/
LOCATION:Burgplatz\, Burgplatz\, Hohenberg an der Eger\, 95691\, Germany
END:VEVENT
BEGIN:VEVENT
DTSTART;TZID=Europe/Berlin:20261208T190000
DTEND;TZID=Europe/Berlin:20261208T210000
DTSTAMP:20260421T120923
CREATED:20260206T134054Z
LAST-MODIFIED:20260206T134054Z
UID:1627-1796756400-1796763600@www.hohenberg-tourismus.de
SUMMARY:SPD Jahresabschlussfeier
DESCRIPTION:
URL:https://www.hohenberg-tourismus.de/event/spd-jahresabschlussfeier/
LOCATION:Gasthof zur Burg\, Burgplatz 5\, Hohenberg a.d .Eger\, 95691\, Germany
END:VEVENT
BEGIN:VEVENT
DTSTART;TZID=Europe/Berlin:20261212T180000
DTEND;TZID=Europe/Berlin:20261212T180000
DTSTAMP:20260421T120923
CREATED:20260206T134200Z
LAST-MODIFIED:20260206T134544Z
UID:1629-1797098400-1797098400@www.hohenberg-tourismus.de
SUMMARY:Feuerwehr Hohenberg Weihnachtsfeier
DESCRIPTION:
URL:https://www.hohenberg-tourismus.de/event/feuerwehr-hohenberg-weihnachtsfeier/
LOCATION:Feuerwehr Hohenberg – Gerätehaus\, Kirchstr. 10\, Hohenberg a.d. Eger\, 95691\, Germany
ATTACH;FMTTYPE=image/png:https://www.hohenberg-tourismus.de/wp-content/uploads/2026/01/cropped-LOGO_FFW_Hohenberg-Freigestellt.png
END:VEVENT
END:VCALENDAR